BEGIN:VCALENDAR
VERSION:2.0
PRODID:-//You-ng! Professionals - ECPv6.15.20//NONSGML v1.0//EN
CALSCALE:GREGORIAN
METHOD:PUBLISH
X-WR-CALNAME:You-ng! Professionals
X-ORIGINAL-URL:https://professionals.you-ng.nl
X-WR-CALDESC:Evenementen voor You-ng! Professionals
REFRESH-INTERVAL;VALUE=DURATION:PT1H
X-Robots-Tag:noindex
X-PUBLISHED-TTL:PT1H
BEGIN:VTIMEZONE
TZID:Europe/Paris
BEGIN:DAYLIGHT
TZOFFSETFROM:+0100
TZOFFSETTO:+0200
TZNAME:CEST
DTSTART:20230326T010000
END:DAYLIGHT
BEGIN:STANDARD
TZOFFSETFROM:+0200
TZOFFSETTO:+0100
TZNAME:CET
DTSTART:20231029T010000
END:STANDARD
BEGIN:DAYLIGHT
TZOFFSETFROM:+0100
TZOFFSETTO:+0200
TZNAME:CEST
DTSTART:20240331T010000
END:DAYLIGHT
BEGIN:STANDARD
TZOFFSETFROM:+0200
TZOFFSETTO:+0100
TZNAME:CET
DTSTART:20241027T010000
END:STANDARD
BEGIN:DAYLIGHT
TZOFFSETFROM:+0100
TZOFFSETTO:+0200
TZNAME:CEST
DTSTART:20250330T010000
END:DAYLIGHT
BEGIN:STANDARD
TZOFFSETFROM:+0200
TZOFFSETTO:+0100
TZNAME:CET
DTSTART:20251026T010000
END:STANDARD
END:VTIMEZONE
BEGIN:VEVENT
DTSTART;TZID=Europe/Paris:20241118T090000
DTEND;TZID=Europe/Paris:20241118T170000
DTSTAMP:20260422T123038
CREATED:20241106T154909Z
LAST-MODIFIED:20241119T102821Z
UID:2617-1731920400-1731949200@professionals.you-ng.nl
SUMMARY:You!nG Forever Training (InCompany)
DESCRIPTION:Besloten InCompany training. Wil je zelf deze training volgen? Je vindt de aankomende trainingen in de agenda\, of neem contact met ons op wanneer je een training wil plannen voor je team.
URL:https://professionals.you-ng.nl/agenda/young-forever-training-incompany/
CATEGORIES:Trainingen
END:VEVENT
BEGIN:VEVENT
DTSTART;TZID=Europe/Paris:20241119T090000
DTEND;TZID=Europe/Paris:20241119T170000
DTSTAMP:20260422T123038
CREATED:20241112T144336Z
LAST-MODIFIED:20241119T102812Z
UID:2639-1732006800-1732035600@professionals.you-ng.nl
SUMMARY:You!nG Forever Training (InCompany)
DESCRIPTION:Besloten InCompany training. Wil je zelf deze training volgen? Je vindt de aankomende trainingen in de agenda\, of neem contact met ons op wanneer je een training wil plannen voor je team.
URL:https://professionals.you-ng.nl/agenda/young-forever-training-incompany-2/
CATEGORIES:Trainingen
END:VEVENT
BEGIN:VEVENT
DTSTART;TZID=Europe/Paris:20241120T090000
DTEND;TZID=Europe/Paris:20241120T120000
DTSTAMP:20260422T123038
CREATED:20241112T144417Z
LAST-MODIFIED:20241119T102753Z
UID:2641-1732093200-1732104000@professionals.you-ng.nl
SUMMARY:You!nG Forever Training (InCompany)
DESCRIPTION:Besloten InCompany training. Wil je zelf deze training volgen? Je vindt de aankomende trainingen in de agenda\, of neem contact met ons op wanneer je een training wil plannen voor je team.
URL:https://professionals.you-ng.nl/agenda/young-forever-training-incompany-3/
CATEGORIES:Trainingen
END:VEVENT
BEGIN:VEVENT
DTSTART;TZID=Europe/Paris:20241120T130000
DTEND;TZID=Europe/Paris:20241120T170000
DTSTAMP:20260422T123038
CREATED:20241112T144444Z
LAST-MODIFIED:20241119T102746Z
UID:2643-1732107600-1732122000@professionals.you-ng.nl
SUMMARY:You!nG Forever Training (InCompany)
DESCRIPTION:Besloten InCompany training. Wil je zelf deze training volgen? Je vindt de aankomende trainingen in de agenda\, of neem contact met ons op wanneer je een training wil plannen voor je team.
URL:https://professionals.you-ng.nl/agenda/young-forever-training-incompany-4/
CATEGORIES:Trainingen
END:VEVENT
END:VCALENDAR